BEGIN:VCALENDAR
VERSION:2.0
PRODID:-//Friends of Roxborough State Park - ECPv6.15.20//NONSGML v1.0//EN
CALSCALE:GREGORIAN
METHOD:PUBLISH
X-WR-CALNAME:Friends of Roxborough State Park
X-ORIGINAL-URL:https://friendsofroxboroughstatepark.org
X-WR-CALDESC:Events for Friends of Roxborough State Park
REFRESH-INTERVAL;VALUE=DURATION:PT1H
X-Robots-Tag:noindex
X-PUBLISHED-TTL:PT1H
BEGIN:VTIMEZONE
TZID:UTC
BEGIN:STANDARD
TZOFFSETFROM:+0000
TZOFFSETTO:+0000
TZNAME:UTC
DTSTART:20240101T000000
END:STANDARD
END:VTIMEZONE
BEGIN:VEVENT
DTSTART;TZID=UTC:20250607T090000
DTEND;TZID=UTC:20250607T140000
DTSTAMP:20260423T094851
CREATED:20250105T153419Z
LAST-MODIFIED:20250303T025025Z
UID:2917-1749286800-1749304800@friendsofroxboroughstatepark.org
SUMMARY:Bigfoot Goin' to Rock the Rox! - Leave No Trace
DESCRIPTION:The first Saturday in June\, Roxborough Volunteers host the annual “Big Foot Goin’ To Rock The Rox” event which supports the education of Leave No Trace to visitors and features displays and activites discussing the Leave No Trace Seven Principles.
URL:https://friendsofroxboroughstatepark.org/event/bigfoot-goin-to-rock-the-rox-leave-no-trace/
LOCATION:Private: Rox Visitor Center\, 4751 Roxborough Dr\, Littleton\, CO\, 80125\, United States
END:VEVENT
END:VCALENDAR