BEGIN:VCALENDAR
VERSION:2.0
PRODID:-//Friends of Roxborough State Park - ECPv6.15.20//NONSGML v1.0//EN
CALSCALE:GREGORIAN
METHOD:PUBLISH
X-ORIGINAL-URL:https://friendsofroxboroughstatepark.org
X-WR-CALDESC:Events for Friends of Roxborough State Park
REFRESH-INTERVAL;VALUE=DURATION:PT1H
X-Robots-Tag:noindex
X-PUBLISHED-TTL:PT1H
BEGIN:VTIMEZONE
TZID:UTC
BEGIN:STANDARD
TZOFFSETFROM:+0000
TZOFFSETTO:+0000
TZNAME:UTC
DTSTART:20250101T000000
END:STANDARD
END:VTIMEZONE
BEGIN:VEVENT
DTSTART;TZID=UTC:20260606T090000
DTEND;TZID=UTC:20260606T140000
DTSTAMP:20260422T210709
CREATED:20250713T131226Z
LAST-MODIFIED:20251130T150950Z
UID:3748-1780736400-1780754400@friendsofroxboroughstatepark.org
SUMMARY:Bigfoot Goin' to Rock the Rox! - Leave No Trace 2026
DESCRIPTION:The first Saturday in June\, Roxborough Volunteers host the annual “Big Foot Goin’ To Rock The Rox” event which supports the education of Leave No Trace to visitors and features displays\, games\, music\, and fun – all focused around the Leave No Trace Seven Principles. Join us for educational booths promoting each of the Leave No Trace principles\, as well as activities for all ages\, music\, and fun! If you’re lucky\, you may even spot Bigfoot! \n 
URL:https://friendsofroxboroughstatepark.org/event/bigfoot-goin-to-rock-the-rox-leave-no-trace-2026/
LOCATION:Private: Rox Visitor Center\, 4751 Roxborough Dr\, Littleton\, CO\, 80125\, United States
END:VEVENT
END:VCALENDAR