BEGIN:VCALENDAR
VERSION:2.0
PRODID:-//Friends of Roxborough State Park - ECPv6.15.20//NONSGML v1.0//EN
CALSCALE:GREGORIAN
METHOD:PUBLISH
X-WR-CALNAME:Friends of Roxborough State Park
X-ORIGINAL-URL:https://friendsofroxboroughstatepark.org
X-WR-CALDESC:Events for Friends of Roxborough State Park
REFRESH-INTERVAL;VALUE=DURATION:PT1H
X-Robots-Tag:noindex
X-PUBLISHED-TTL:PT1H
BEGIN:VTIMEZONE
TZID:UTC
BEGIN:STANDARD
TZOFFSETFROM:+0000
TZOFFSETTO:+0000
TZNAME:UTC
DTSTART:20250101T000000
END:STANDARD
END:VTIMEZONE
BEGIN:VEVENT
DTSTART;TZID=UTC:20260621T073000
DTEND;TZID=UTC:20260621T220000
DTSTAMP:20260422T210508
CREATED:20260309T000220Z
LAST-MODIFIED:20260309T000616Z
UID:4062-1782027000-1782079200@friendsofroxboroughstatepark.org
SUMMARY:Guided Bird Walk - June
DESCRIPTION:Grab your bird book and binoculars and join us for bird watching adventures. These hikes are for all ability levels. Dress for changing weather conditions. Registration required and meeting location is at the Visitor Center patio. \nPlease register for this event through Colorado Parks and Wildlife Connect Event Page: Event Finder | Colorado Parks and Wildlife \nPrepare for your visit by learning more about the birds native to Roxborough you may see on your hike at our Wildlife and Wildflowers page: Wildlife and Wildflowers – Friends of Roxborough State Park \nWoodhouse’s Scrub-Jay
URL:https://friendsofroxboroughstatepark.org/event/guided-bird-walk-june/
LOCATION:Private: Rox Visitor Center\, 4751 Roxborough Dr\, Littleton\, CO\, 80125\, United States
END:VEVENT
END:VCALENDAR