BEGIN:VCALENDAR
VERSION:2.0
PRODID:-//Friends of Roxborough State Park - ECPv6.15.20//NONSGML v1.0//EN
CALSCALE:GREGORIAN
METHOD:PUBLISH
X-WR-CALNAME:Friends of Roxborough State Park
X-ORIGINAL-URL:https://friendsofroxboroughstatepark.org
X-WR-CALDESC:Events for Friends of Roxborough State Park
REFRESH-INTERVAL;VALUE=DURATION:PT1H
X-Robots-Tag:noindex
X-PUBLISHED-TTL:PT1H
BEGIN:VTIMEZONE
TZID:UTC
BEGIN:STANDARD
TZOFFSETFROM:+0000
TZOFFSETTO:+0000
TZNAME:UTC
DTSTART:20250101T000000
END:STANDARD
END:VTIMEZONE
BEGIN:VEVENT
DTSTART;TZID=UTC:20260913T090000
DTEND;TZID=UTC:20260913T140000
DTSTAMP:20260423T014936
CREATED:20250713T132003Z
LAST-MODIFIED:20260309T021024Z
UID:3752-1789290000-1789308000@friendsofroxboroughstatepark.org
SUMMARY:Leave No Trace Table Talks - Girl Scouts Love State Parks
DESCRIPTION:“Girl Scouts Love State Parks” — “Trash Your Trash” to “Keep Wildlife Wild” (9 – 2) . This event welcomes Girl Scouts from across the state to learn about the Leave No Trace principles with educational activities\, games and giveaways. These events are open to the public\, hosted inside the Visitor Center Auditorium or on the patio dependent on weather.
URL:https://friendsofroxboroughstatepark.org/event/leave-no-trace-girl-scouts-love-state-parks/
LOCATION:Private: Rox Visitor Center\, 4751 Roxborough Dr\, Littleton\, CO\, 80125\, United States
END:VEVENT
END:VCALENDAR