BEGIN:VCALENDAR
VERSION:2.0
PRODID:-//Friends of Roxborough State Park - ECPv6.15.20//NONSGML v1.0//EN
CALSCALE:GREGORIAN
METHOD:PUBLISH
X-ORIGINAL-URL:https://friendsofroxboroughstatepark.org
X-WR-CALDESC:Events for Friends of Roxborough State Park
REFRESH-INTERVAL;VALUE=DURATION:PT1H
X-Robots-Tag:noindex
X-PUBLISHED-TTL:PT1H
BEGIN:VTIMEZONE
TZID:UTC
BEGIN:STANDARD
TZOFFSETFROM:+0000
TZOFFSETTO:+0000
TZNAME:UTC
DTSTART:20250101T000000
END:STANDARD
END:VTIMEZONE
BEGIN:VEVENT
DTSTART;TZID=UTC:20261024T120000
DTEND;TZID=UTC:20261024T160000
DTSTAMP:20260423T033101
CREATED:20250713T125418Z
LAST-MODIFIED:20251202T041743Z
UID:3746-1792843200-1792857600@friendsofroxboroughstatepark.org
SUMMARY:5th Annual - Boo!
DESCRIPTION:Boo! is a family friendly trick-or-treat event at Roxborough State Park where kids can wear their costumes and learn about the “spooky“ things in the park. Topics include bats\, spiders\, red witch rock formation\, skulls\, owls\, vultures/ravens\, poisonous plants and more! \n\nSee you on Saturday\, October 24\, 2026 from 12 noon until 4 pm.
URL:https://friendsofroxboroughstatepark.org/event/boo/
LOCATION:Private: Rox Visitor Center\, 4751 Roxborough Dr\, Littleton\, CO\, 80125\, United States
END:VEVENT
END:VCALENDAR