BEGIN:VCALENDAR
VERSION:2.0
PRODID:-//Friends of Roxborough State Park - ECPv6.15.20//NONSGML v1.0//EN
CALSCALE:GREGORIAN
METHOD:PUBLISH
X-ORIGINAL-URL:https://friendsofroxboroughstatepark.org
X-WR-CALDESC:Events for Friends of Roxborough State Park
REFRESH-INTERVAL;VALUE=DURATION:PT1H
X-Robots-Tag:noindex
X-PUBLISHED-TTL:PT1H
BEGIN:VTIMEZONE
TZID:UTC
BEGIN:STANDARD
TZOFFSETFROM:+0000
TZOFFSETTO:+0000
TZNAME:UTC
DTSTART:20240101T000000
END:STANDARD
END:VTIMEZONE
BEGIN:VEVENT
DTSTART;TZID=UTC:20260418T100000
DTEND;TZID=UTC:20260418T140000
DTSTAMP:20260422T194711
CREATED:20250303T021018Z
LAST-MODIFIED:20260309T020115Z
UID:3484-1776506400-1776520800@friendsofroxboroughstatepark.org
SUMMARY:Leave No Trace Table Talks - Celebrating Earth Day
DESCRIPTION:“Celebrating Earth Day” – “Trash Your Trash” is featured with learning how long it takes for trash to decompose\, information shared about the 4 R’s -recycle\, reuse\, rethink and reduce and “Leave It As You Find it”. “Plant\, Not Pick” with seed pod activity for visitors to take home. (10 – 2). These events are open to the public\, hosted inside the Visitor Center Auditorium or on the patio dependent on weather.
URL:https://friendsofroxboroughstatepark.org/event/leave-no-trace-table-talks-celebrating-earth-day/
LOCATION:Private: Rox Visitor Center\, 4751 Roxborough Dr\, Littleton\, CO\, 80125\, United States
CATEGORIES:Table Talks
END:VEVENT
BEGIN:VEVENT
DTSTART;TZID=UTC:20260314T100000
DTEND;TZID=UTC:20260314T140000
DTSTAMP:20260422T194711
CREATED:20250303T020623Z
LAST-MODIFIED:20260309T020124Z
UID:3482-1773482400-1773496800@friendsofroxboroughstatepark.org
SUMMARY:Leave No Trace Table Talks - It's Your Lucky Day At Roxborough State Park
DESCRIPTION:“It’s Your Lucky Day At Roxborough State Park” – Featuring the history of Roxborough and activities for “Know Before You Go” with spring weather hiking and “Stick To The Trails” activities to prevent widening of trails by walking through the mud\, and learning about durable surfaces. (10 – 2). These events are open to the public\, hosted inside the Visitor Center Auditorium or on the patio dependent on weather.
URL:https://friendsofroxboroughstatepark.org/event/leave-no-trace-table-talks-its-your-lucky-day-at-roxborough-state-park/
LOCATION:Private: Rox Visitor Center\, 4751 Roxborough Dr\, Littleton\, CO\, 80125\, United States
CATEGORIES:Table Talks
END:VEVENT
BEGIN:VEVENT
DTSTART;TZID=UTC:20260308T100000
DTEND;TZID=UTC:20260308T120000
DTSTAMP:20260422T194711
CREATED:20250210T011554Z
LAST-MODIFIED:20260309T001255Z
UID:3124-1772964000-1772971200@friendsofroxboroughstatepark.org
SUMMARY:History Table Talk - Women of Roxborough
DESCRIPTION:Join us for a Roxborough Table Talk supported by the Friends of Roxborough State Park. These events are open to the public\, hosted inside the Visitor Center Auditorium and cover important elements of Roxborough area and the people who made it what it is today.
URL:https://friendsofroxboroughstatepark.org/event/history-table-talk-women-of-roxborough/
LOCATION:Private: Rox Visitor Center\, 4751 Roxborough Dr\, Littleton\, CO\, 80125\, United States
CATEGORIES:Table Talks
END:VEVENT
BEGIN:VEVENT
DTSTART;TZID=UTC:20251025T100000
DTEND;TZID=UTC:20251025T120000
DTSTAMP:20260422T194711
CREATED:20250210T012656Z
LAST-MODIFIED:20250317T140732Z
UID:3135-1761386400-1761393600@friendsofroxboroughstatepark.org
SUMMARY:History Table Talk - Silicated Brick and the Silica Branch (Colorado and Southern Railroad)
DESCRIPTION:Join us for a Roxborough Table Talk supported by the Friends of Roxborough State Park. These events are open to the public\, hosted inside the Visitor Center Auditorium and cover important elements of Roxborough area and the people who made it what it is today.
URL:https://friendsofroxboroughstatepark.org/event/history-table-talk-silicated-brick-and-the-silica-branch-colorado-and-southern-railroad/
LOCATION:Private: Rox Visitor Center\, 4751 Roxborough Dr\, Littleton\, CO\, 80125\, United States
CATEGORIES:Table Talks
END:VEVENT
BEGIN:VEVENT
DTSTART;TZID=UTC:20250927T100000
DTEND;TZID=UTC:20250927T120000
DTSTAMP:20260422T194711
CREATED:20250210T012557Z
LAST-MODIFIED:20250210T012557Z
UID:3134-1758967200-1758974400@friendsofroxboroughstatepark.org
SUMMARY:History Table Talk - Mountain Jeannie
DESCRIPTION:Join us for a Roxborough Table Talk supported by the Friends of Roxborough State Park. These events are open to the public\, hosted inside the Visitor Center Auditorium and cover important elements of Roxborough area and the people who made it what it is today.
URL:https://friendsofroxboroughstatepark.org/event/history-table-talk-mountain-jeannie/
LOCATION:Private: Rox Visitor Center\, 4751 Roxborough Dr\, Littleton\, CO\, 80125\, United States
CATEGORIES:Table Talks
END:VEVENT
BEGIN:VEVENT
DTSTART;TZID=UTC:20250913T100000
DTEND;TZID=UTC:20250913T120000
DTSTAMP:20260422T194711
CREATED:20250210T012534Z
LAST-MODIFIED:20250210T012534Z
UID:3133-1757757600-1757764800@friendsofroxboroughstatepark.org
SUMMARY:History Table Talk - Sundance Ranch
DESCRIPTION:Join us for a Roxborough Table Talk supported by the Friends of Roxborough State Park. These events are open to the public\, hosted inside the Visitor Center Auditorium and cover important elements of Roxborough area and the people who made it what it is today.
URL:https://friendsofroxboroughstatepark.org/event/history-table-talk-sundance-ranch/
LOCATION:Private: Rox Visitor Center\, 4751 Roxborough Dr\, Littleton\, CO\, 80125\, United States
CATEGORIES:Table Talks
END:VEVENT
BEGIN:VEVENT
DTSTART;TZID=UTC:20250823T100000
DTEND;TZID=UTC:20250823T120000
DTSTAMP:20260422T194711
CREATED:20250210T012451Z
LAST-MODIFIED:20250210T012451Z
UID:3132-1755943200-1755950400@friendsofroxboroughstatepark.org
SUMMARY:History Table Talk - Homesteading and the Public Land Survey System
DESCRIPTION:Join us for a Roxborough Table Talk supported by the Friends of Roxborough State Park. These events are open to the public\, hosted inside the Visitor Center Auditorium and cover important elements of Roxborough area and the people who made it what it is today.
URL:https://friendsofroxboroughstatepark.org/event/history-table-talk-homesteading-and-the-public-land-survey-system/
LOCATION:Private: Rox Visitor Center\, 4751 Roxborough Dr\, Littleton\, CO\, 80125\, United States
CATEGORIES:Table Talks
END:VEVENT
BEGIN:VEVENT
DTSTART;TZID=UTC:20250726T100000
DTEND;TZID=UTC:20250726T120000
DTSTAMP:20260422T194711
CREATED:20250210T012417Z
LAST-MODIFIED:20250210T012417Z
UID:3131-1753524000-1753531200@friendsofroxboroughstatepark.org
SUMMARY:History Table Talk - Ute STEM Kit
DESCRIPTION:Join us for a Roxborough Table Talk supported by the Friends of Roxborough State Park. These events are open to the public\, hosted inside the Visitor Center Auditorium and cover important elements of Roxborough area and the people who made it what it is today.
URL:https://friendsofroxboroughstatepark.org/event/history-table-talk-ute-stem-kit/
LOCATION:Private: Rox Visitor Center\, 4751 Roxborough Dr\, Littleton\, CO\, 80125\, United States
CATEGORIES:Table Talks
END:VEVENT
BEGIN:VEVENT
DTSTART;TZID=UTC:20250706T080000
DTEND;TZID=UTC:20250706T170000
DTSTAMP:20260422T194711
CREATED:20250210T011815Z
LAST-MODIFIED:20250210T011815Z
UID:3126-1751788800-1751821200@friendsofroxboroughstatepark.org
SUMMARY:History Table Talk - The Long Expedition
DESCRIPTION:Join us for a Roxborough Table Talk supported by the Friends of Roxborough State Park. These events are open to the public\, hosted inside the Visitor Center Auditorium and cover important elements of Roxborough area and the people who made it what it is today.
URL:https://friendsofroxboroughstatepark.org/event/history-table-talk-the-long-expedition/
LOCATION:Private: Rox Visitor Center\, 4751 Roxborough Dr\, Littleton\, CO\, 80125\, United States
CATEGORIES:Table Talks
END:VEVENT
BEGIN:VEVENT
DTSTART;TZID=UTC:20250621T100000
DTEND;TZID=UTC:20250621T120000
DTSTAMP:20260422T194711
CREATED:20250210T011650Z
LAST-MODIFIED:20250317T140729Z
UID:3125-1750500000-1750507200@friendsofroxboroughstatepark.org
SUMMARY:History Table Talk - Henry Persse
DESCRIPTION:Join us for a Roxborough Table Talk supported by the Friends of Roxborough State Park. These events are open to the public\, hosted inside the Visitor Center Auditorium and cover important elements of Roxborough area and the people who made it what it is today.
URL:https://friendsofroxboroughstatepark.org/event/history-table-talk-henry-persse/
LOCATION:Private: Rox Visitor Center\, 4751 Roxborough Dr\, Littleton\, CO\, 80125\, United States
CATEGORIES:Table Talks
END:VEVENT
BEGIN:VEVENT
DTSTART;TZID=UTC:20250503T100000
DTEND;TZID=UTC:20250503T120000
DTSTAMP:20260422T194711
CREATED:20250210T011021Z
LAST-MODIFIED:20250210T011021Z
UID:3120-1746266400-1746273600@friendsofroxboroughstatepark.org
SUMMARY:History Table Talk - Roxborough History in Photos
DESCRIPTION:Join us for a Roxborough Table Talk supported by the Friends of Roxborough State Park. These events are open to the public\, hosted inside the Visitor Center Auditorium and cover important elements of Roxborough’s history and usage.
URL:https://friendsofroxboroughstatepark.org/event/history-table-talk-roxborough-history-in-photos/
LOCATION:Private: Rox Visitor Center\, 4751 Roxborough Dr\, Littleton\, CO\, 80125\, United States
CATEGORIES:Table Talks
END:VEVENT
END:VCALENDAR