BEGIN:VCALENDAR
VERSION:2.0
PRODID:-//Friends of Roxborough State Park - ECPv6.15.20//NONSGML v1.0//EN
CALSCALE:GREGORIAN
METHOD:PUBLISH
X-ORIGINAL-URL:https://friendsofroxboroughstatepark.org
X-WR-CALDESC:Events for Friends of Roxborough State Park
REFRESH-INTERVAL;VALUE=DURATION:PT1H
X-Robots-Tag:noindex
X-PUBLISHED-TTL:PT1H
BEGIN:VTIMEZONE
TZID:UTC
BEGIN:STANDARD
TZOFFSETFROM:+0000
TZOFFSETTO:+0000
TZNAME:UTC
DTSTART:20250101T000000
END:STANDARD
END:VTIMEZONE
BEGIN:VEVENT
DTSTART;TZID=UTC:20260509T100000
DTEND;TZID=UTC:20260509T140000
DTSTAMP:20260422T194646
CREATED:20250303T021144Z
LAST-MODIFIED:20260309T020220Z
UID:3485-1778320800-1778335200@friendsofroxboroughstatepark.org
SUMMARY:Leave No Trace Table Talks - Taking Care of Mother Earth
DESCRIPTION:“Taking Care of Mother Earth” – “Trash Your Trash” is featured with learning how long it takes for trash to decompose. The principle “Leave It As You Find it” has the activity “Plant\, Not Pick” with seed pods for visitors to take home. (10 – 2) These events are open to the public\, hosted inside the Visitor Center Auditorium or on the patio dependent on weather.
URL:https://friendsofroxboroughstatepark.org/event/leave-no-trace-table-talks-taking-care-of-mother-earth/
LOCATION:Private: Rox Visitor Center\, 4751 Roxborough Dr\, Littleton\, CO\, 80125\, United States
CATEGORIES:Table Talks
END:VEVENT
BEGIN:VEVENT
DTSTART;TZID=UTC:20260517T073000
DTEND;TZID=UTC:20260517T093000
DTSTAMP:20260422T194646
CREATED:20260309T000207Z
LAST-MODIFIED:20260309T000600Z
UID:4063-1779003000-1779010200@friendsofroxboroughstatepark.org
SUMMARY:Guided Bird Walk - May
DESCRIPTION:Grab your bird book and binoculars and join us for bird watching adventures. These hikes are for all ability levels. Dress for changing weather conditions. Registration required and meeting location is at the Visitor Center patio. \nPlease register for this event through Colorado Parks and Wildlife Connect Event Page: Event Finder | Colorado Parks and Wildlife \nPrepare for your visit by learning more about the birds native to Roxborough you may see on your hike at our Wildlife and Wildflowers page: Wildlife and Wildflowers – Friends of Roxborough State Park \nWoodhouse’s Scrub-Jay
URL:https://friendsofroxboroughstatepark.org/event/guided-bird-walk-may/
LOCATION:Private: Rox Visitor Center\, 4751 Roxborough Dr\, Littleton\, CO\, 80125\, United States
END:VEVENT
BEGIN:VEVENT
DTSTART;TZID=UTC:20260523T100000
DTEND;TZID=UTC:20260523T110000
DTSTAMP:20260422T194646
CREATED:20260309T002904Z
LAST-MODIFIED:20260309T002904Z
UID:4082-1779530400-1779534000@friendsofroxboroughstatepark.org
SUMMARY:Roxborough Puppet Theater - May
DESCRIPTION:Join us in the Visitor Center auditorium for a fun and educational puppet show teaching kids (of all ages) about the wildlife\, and natural beauty of Roxborough State Park!
URL:https://friendsofroxboroughstatepark.org/event/roxborough-puppet-theater-may/
LOCATION:Private: Rox Visitor Center\, 4751 Roxborough Dr\, Littleton\, CO\, 80125\, United States
END:VEVENT
BEGIN:VEVENT
DTSTART;TZID=UTC:20260524T170000
DTEND;TZID=UTC:20260524T183000
DTSTAMP:20260422T194646
CREATED:20260309T010322Z
LAST-MODIFIED:20260309T010322Z
UID:4086-1779642000-1779647400@friendsofroxboroughstatepark.org
SUMMARY:Spring Wildflower Guided Hike on Willow Creek Trail - May
DESCRIPTION:Join the expert Volunteer Naturalists of Roxborough for a guided wildflower hike on the Willow Creek Trail. This trail is 1.45 miles and is categorized as an easy hike. \nLearn more from the park brochure: Roxborough-State-Park-Brochure.pdf \nPrepare for your visit by learning more about the flowers native to Roxborough you may see on your hike at our Wildlife and Wildflowers page: Wildlife and Wildflowers – Friends of Roxborough State Park
URL:https://friendsofroxboroughstatepark.org/event/spring-wildflower-guided-hike-on-willow-creek-trail-may/
LOCATION:Private: Rox Visitor Center\, 4751 Roxborough Dr\, Littleton\, CO\, 80125\, United States
END:VEVENT
BEGIN:VEVENT
DTSTART;TZID=UTC:20260529T184500
DTEND;TZID=UTC:20260529T204500
DTSTAMP:20260422T194646
CREATED:20260314T142442Z
LAST-MODIFIED:20260314T142442Z
UID:4129-1780080300-1780087500@friendsofroxboroughstatepark.org
SUMMARY:Moonrise Hike - May
DESCRIPTION:As a calm summer evening settles over Roxborough\, the park comes alive in a unique way as the moon rises and casts its gentle glow across the landscape. Even if you’ve wandered Roxborough’s trails during the day\, you’ll be amazed at how the park transforms under the light of the rising full moon\, revealing wonders you’ve never seen before. \nThe cool night air awakens a whole different side to Roxborough State Park. Begin your adventure at the Visitor Center\, then hike alongside the majestic sleeping giant red rocks as you explore the Fountain Valley Trail\, discovering Roxborough’s nocturnal magic. The Friends of Roxborough State Park are sponsoring the evening hike series once again for 2026. These monthly hikes throughout Summer and early Fall pair participants with knowledgeable volunteer guides\, who explore the secrets and natural beauty of Roxborough as the night unfolds. \nWe have simplified the Moonrise Hike registration process for this year. To sign up\, simply call the Roxborough State Park Visitor Center at 303-973-3959 and ask to register for the hike of your choice\, according to the schedule below. If your first choice is full\, you’ll be offered alternate dates to ensure you don’t miss this special evening adventure. You can also register in person at the Visitor Center – just be sure to sign up early\, as the hikes often fill quickly. \nAs these Moonrise Hikes are fundraising events for the Friends of Roxborough State Park\, we ask for a donation of $8.00 per person. Donations can be made by credit card during registration\, and you’ll receive a confirmation receipt via email.
URL:https://friendsofroxboroughstatepark.org/event/moonrise-hike-may/
LOCATION:Private: Rox Visitor Center\, 4751 Roxborough Dr\, Littleton\, CO\, 80125\, United States
END:VEVENT
END:VCALENDAR