BEGIN:VCALENDAR
VERSION:2.0
PRODID:-//Friends of Roxborough State Park - ECPv6.15.20//NONSGML v1.0//EN
CALSCALE:GREGORIAN
METHOD:PUBLISH
X-WR-CALNAME:Friends of Roxborough State Park
X-ORIGINAL-URL:https://friendsofroxboroughstatepark.org
X-WR-CALDESC:Events for Friends of Roxborough State Park
REFRESH-INTERVAL;VALUE=DURATION:PT1H
X-Robots-Tag:noindex
X-PUBLISHED-TTL:PT1H
BEGIN:VTIMEZONE
TZID:UTC
BEGIN:STANDARD
TZOFFSETFROM:+0000
TZOFFSETTO:+0000
TZNAME:UTC
DTSTART:20250101T000000
END:STANDARD
END:VTIMEZONE
BEGIN:VEVENT
DTSTART;TZID=UTC:20260808T090000
DTEND;TZID=UTC:20260808T130000
DTSTAMP:20260422T224217
CREATED:20250713T133007Z
LAST-MODIFIED:20260309T020531Z
UID:3754-1786179600-1786194000@friendsofroxboroughstatepark.org
SUMMARY:Leave No Trace Table Talk - "Know Before You Go"
DESCRIPTION:“Know Before You Go” Using the principle for everyday life with the new school year starting and also preparing for hikes. (9 – 1) These events are open to the public\, hosted inside the Visitor Center Auditorium or on the patio dependent on weather.
URL:https://friendsofroxboroughstatepark.org/event/leave-no-trace-table-talk-know-before-you-go/
LOCATION:CO
END:VEVENT
BEGIN:VEVENT
DTSTART;TZID=UTC:20260827T123000
DTEND;TZID=UTC:20260827T143000
DTSTAMP:20260422T224217
CREATED:20241103T212740Z
LAST-MODIFIED:20260314T142638Z
UID:2345-1787833800-1787841000@friendsofroxboroughstatepark.org
SUMMARY:Moonrise Hike - August
DESCRIPTION:As a calm summer evening settles over Roxborough\, the park comes alive in a unique way as the moon rises and casts its gentle glow across the landscape. Even if you’ve wandered Roxborough’s trails during the day\, you’ll be amazed at how the park transforms under the light of the rising full moon\, revealing wonders you’ve never seen before. \nThe cool night air awakens a whole different side to Roxborough State Park. Begin your adventure at the Visitor Center\, then hike alongside the majestic sleeping giant red rocks as you explore the Fountain Valley Trail\, discovering Roxborough’s nocturnal magic. The Friends of Roxborough State Park are sponsoring the evening hike series once again for 2026. These monthly hikes throughout Summer and early Fall pair participants with knowledgeable volunteer guides\, who explore the secrets and natural beauty of Roxborough as the night unfolds. \nWe have simplified the Moonrise Hike registration process for this year. To sign up\, simply call the Roxborough State Park Visitor Center at 303-973-3959 and ask to register for the hike of your choice\, according to the schedule below. If your first choice is full\, you’ll be offered alternate dates to ensure you don’t miss this special evening adventure. You can also register in person at the Visitor Center – just be sure to sign up early\, as the hikes often fill quickly. \nAs these Moonrise Hikes are fundraising events for the Friends of Roxborough State Park\, we ask for a donation of $8.00 per person. Donations can be made by credit card during registration\, and you’ll receive a confirmation receipt via email.
URL:https://friendsofroxboroughstatepark.org/event/moonrise-hike-august/
LOCATION:Private: Rox Visitor Center\, 4751 Roxborough Dr\, Littleton\, CO\, 80125\, United States
CATEGORIES:Moonrise Hikes
END:VEVENT
END:VCALENDAR